BEGIN:VCALENDAR
VERSION:2.0
PRODID:-//Indiana Subcontractors Association - ECPv6.15.20//NONSGML v1.0//EN
CALSCALE:GREGORIAN
METHOD:PUBLISH
X-WR-CALNAME:Indiana Subcontractors Association
X-ORIGINAL-URL:https://indianasubcontractors.org
X-WR-CALDESC:Events for Indiana Subcontractors Association
REFRESH-INTERVAL;VALUE=DURATION:PT1H
X-Robots-Tag:noindex
X-PUBLISHED-TTL:PT1H
BEGIN:VTIMEZONE
TZID:America/New_York
BEGIN:DAYLIGHT
TZOFFSETFROM:-0500
TZOFFSETTO:-0400
TZNAME:EDT
DTSTART:20250309T070000
END:DAYLIGHT
BEGIN:STANDARD
TZOFFSETFROM:-0400
TZOFFSETTO:-0500
TZNAME:EST
DTSTART:20251102T060000
END:STANDARD
BEGIN:DAYLIGHT
TZOFFSETFROM:-0500
TZOFFSETTO:-0400
TZNAME:EDT
DTSTART:20260308T070000
END:DAYLIGHT
BEGIN:STANDARD
TZOFFSETFROM:-0400
TZOFFSETTO:-0500
TZNAME:EST
DTSTART:20261101T060000
END:STANDARD
BEGIN:DAYLIGHT
TZOFFSETFROM:-0500
TZOFFSETTO:-0400
TZNAME:EDT
DTSTART:20270314T070000
END:DAYLIGHT
BEGIN:STANDARD
TZOFFSETFROM:-0400
TZOFFSETTO:-0500
TZNAME:EST
DTSTART:20271107T060000
END:STANDARD
END:VTIMEZONE
BEGIN:VEVENT
DTSTART;TZID=America/New_York:20260506T090000
DTEND;TZID=America/New_York:20260506T100000
DTSTAMP:20260424T095144
CREATED:20260422T174350Z
LAST-MODIFIED:20260423T134848Z
UID:10000075-1778058000-1778061600@indianasubcontractors.org
SUMMARY:GC/CM Connect w/ Pepper Construction
DESCRIPTION:GC/CM Connect is a new networking series designed to help Indiana subcontractors build strong\, productive relationships with leading general contractors and construction managers. Hosted by the Business Connections Committee\, each event offers a concentrated\, focused setting to learn about upcoming opportunities\, exchange insights\, and start conversations that can lead to future work. \n\nJoin us May 6 from 9:00–10:00 AM at Pepper Construction Company of Indiana’s Indianapolis office for our first GC/CM Connect. Attendees will have the opportunity to meet directly with the Pepper Construction team while enjoying fresh coffee from Travelin’ Tom’s Coffee. \n\n REGISTER HERE\nThis event is only for subcontractor or “regular” members of ISA. Limit two (2) attendees per company. Please only register if you are from a subcontractor company that is an active ISA member.  \n  \nATTENDEE LIST \nComing soon!
URL:https://indianasubcontractors.org/event/gc-cm-connect-w-pepper-construction/
LOCATION:Pepper Construction Company of Indiana\, 1850 W 15th St\, Indianapolis\, IN\, 46202\, United States
CATEGORIES:Business Connections Committee
ATTACH;FMTTYPE=image/png:https://indianasubcontractors.org/wp-content/uploads/2026/04/GCCM-Connect_Pepper.png
GEO:39.7881728;-86.193523
X-APPLE-STRUCTURED-LOCATION;VALUE=URI;X-ADDRESS=Pepper Construction Company of Indiana 1850 W 15th St Indianapolis IN 46202 United States;X-APPLE-RADIUS=500;X-TITLE=1850 W 15th St:geo:-86.193523,39.7881728
END:VEVENT
END:VCALENDAR